BEGIN:VCALENDAR
VERSION:2.0
PRODID:Imitheme.com 
BEGIN:VEVENT
UID:20260422T0057561654082047
DTSTAMP;TZID=UTC:2026-04-22 00:57:56
DTSTART;TZID=America/Los_Angeles:20260422T005756
DTEND;TZID=America/Los_Angeles:20260422T005756
SUMMARY:Kiwanis Club of Seymour Monthly Meeting
LOCATION:
DESCRIPTION:Kiwanis Club of Seymour Meeting WHEN: First Thursday of every month, 12:00 to 1:00 PM WHERE: The Bridge Coffee and Community
URL:https://liveit.care/event/kiwanis-club-of-seymour-monthly-meeting/
END:VEVENT
END:VCALENDAR
