BEGIN:VCALENDAR
VERSION:2.0
PRODID:Imitheme.com 
BEGIN:VEVENT
UID:20260421T0628391046696482
DTSTAMP;TZID=UTC:2026-04-21 06:28:39
DTSTART;TZID=America/Los_Angeles:20260421T062839
DTEND;TZID=America/Los_Angeles:20260421T062839
SUMMARY:FREE EVENT - Coffee Talk : Bullying and It's Potential Tragic Effects
LOCATION:
DESCRIPTION:FREE EVENT - Coffee Talk : Bullying and It\'s Potential Tragic Effects Join us for a community discussion: Featured Speaker: Taylor Murmann, East Tennessee Regional Director, Suicide Prevention Network CO Tuesday, February 18th 6:30 pm to 8:00 pm The Bridge Coffeehouse 11935 Chapman Highway, Seymour, TN 865-280-2607 Click Here for More Information
URL:https://liveit.care/event/free-event-coffee-talk-bullying-and-its-potential-tragic-effects/
END:VEVENT
END:VCALENDAR
