BEGIN:VCALENDAR
VERSION:2.0
PRODID:Imitheme.com 
BEGIN:VEVENT
UID:20260421T061208986779470
DTSTAMP;TZID=UTC:2026-04-21 06:12:08
DTSTART;TZID=America/Los_Angeles:20260421T061208
DTEND;TZID=America/Los_Angeles:20260421T061208
SUMMARY:Annual Arts & Crafts Show and Sale
LOCATION:
DESCRIPTION:Join us for our annual Arts & Crafts Show & Sale! When: Saturday, June 7, 2025 10:00A - 4:00P Where: 11935 Chapman Hwy., Seymour, TN 37865 Vendor spaces are available - $45! For more information, contact Rev. Patti Ortiz at 901-371-6998
URL:https://liveit.care/event/annual-arts-crafts-show-and-sale-2/
END:VEVENT
END:VCALENDAR
