BEGIN:VCALENDAR
VERSION:2.0
PRODID:Imitheme.com 
BEGIN:VEVENT
UID:20260421T0457331851409518
DTSTAMP;TZID=UTC:2026-04-21 04:57:33
DTSTART;TZID=America/Los_Angeles:20260421T045733
DTEND;TZID=America/Los_Angeles:20260421T045733
SUMMARY:Fashion for a Cause
LOCATION:
DESCRIPTION:Fashion for a Cause A fashion show fundraiser benefitting LIVE IT Ministries. When : May 4, 2025 Doors Open at 3P Program Begins at 4P Where: The Bridge Coffee House, 11935 Chapman Highway, Seymour, TN 37865 Tickets : $75 Click Here to Purchase Tickets For information, please call: (865)604-4088 Sponsored by Caney Creek Cabins, MossCreek, ZippyPrintz, SERVPRO of Sevier, Jefferson, & Cocke Counties, Connect Church, Domino\'s Pizza, Century 21 MVP, CFS - Comprehensive Financial Strategies LLC, Mountain Movement Dance Center, Praise 96.3 FM WJBZ, Enchanted Events, Citizens National Bank
URL:https://liveit.care/event/fashion-for-a-cause/
END:VEVENT
END:VCALENDAR
